BEGIN:VCALENDAR
VERSION:2.0
PRODID:-//Freedom Church  - ECPv6.15.20//NONSGML v1.0//EN
CALSCALE:GREGORIAN
METHOD:PUBLISH
X-ORIGINAL-URL:https://freedomknysna.co.za
X-WR-CALDESC:Events for Freedom Church 
REFRESH-INTERVAL;VALUE=DURATION:PT1H
X-Robots-Tag:noindex
X-PUBLISHED-TTL:PT1H
BEGIN:VTIMEZONE
TZID:Europe/Helsinki
BEGIN:DAYLIGHT
TZOFFSETFROM:+0200
TZOFFSETTO:+0300
TZNAME:EEST
DTSTART:20240331T010000
END:DAYLIGHT
BEGIN:STANDARD
TZOFFSETFROM:+0300
TZOFFSETTO:+0200
TZNAME:EET
DTSTART:20241027T010000
END:STANDARD
BEGIN:DAYLIGHT
TZOFFSETFROM:+0200
TZOFFSETTO:+0300
TZNAME:EEST
DTSTART:20250330T010000
END:DAYLIGHT
BEGIN:STANDARD
TZOFFSETFROM:+0300
TZOFFSETTO:+0200
TZNAME:EET
DTSTART:20251026T010000
END:STANDARD
BEGIN:DAYLIGHT
TZOFFSETFROM:+0200
TZOFFSETTO:+0300
TZNAME:EEST
DTSTART:20260329T010000
END:DAYLIGHT
BEGIN:STANDARD
TZOFFSETFROM:+0300
TZOFFSETTO:+0200
TZNAME:EET
DTSTART:20261025T010000
END:STANDARD
END:VTIMEZONE
BEGIN:VEVENT
DTSTART;TZID=Europe/Helsinki:20250413T100000
DTEND;TZID=Europe/Helsinki:20250413T233000
DTSTAMP:20260423T140503
CREATED:20250312T105016Z
LAST-MODIFIED:20250312T105016Z
UID:4018-1744538400-1744587000@freedomknysna.co.za
SUMMARY:Baby Dedication
DESCRIPTION:
URL:https://freedomknysna.co.za/event/baby-dedication/
LOCATION:Freedom Church Knysna\, 23 Bokmakierie St\, Old Place\, Knysna\, Western Cape\, 6571\, South Africa
END:VEVENT
BEGIN:VEVENT
DTSTART;TZID=Europe/Helsinki:20250418T083000
DTEND;TZID=Europe/Helsinki:20250418T100000
DTSTAMP:20260423T140503
CREATED:20250318T121014Z
LAST-MODIFIED:20250318T121014Z
UID:4025-1744965000-1744970400@freedomknysna.co.za
SUMMARY:Easter Service 8:30
DESCRIPTION:
URL:https://freedomknysna.co.za/event/easter-service-830/
LOCATION:Freedom Church Knysna\, 23 Bokmakierie St\, Old Place\, Knysna\, Western Cape\, 6571\, South Africa
END:VEVENT
BEGIN:VEVENT
DTSTART;TZID=Europe/Helsinki:20250418T100000
DTEND;TZID=Europe/Helsinki:20250418T233000
DTSTAMP:20260423T140503
CREATED:20250318T121104Z
LAST-MODIFIED:20250318T121104Z
UID:4027-1744970400-1745019000@freedomknysna.co.za
SUMMARY:Easter Service 10:00
DESCRIPTION:
URL:https://freedomknysna.co.za/event/easter-service-1000/
LOCATION:Freedom Church Knysna\, 23 Bokmakierie St\, Old Place\, Knysna\, Western Cape\, 6571\, South Africa
END:VEVENT
END:VCALENDAR