BEGIN:VCALENDAR
VERSION:2.0
PRODID:-//Freedom Church  - ECPv6.15.20//NONSGML v1.0//EN
CALSCALE:GREGORIAN
METHOD:PUBLISH
X-WR-CALNAME:Freedom Church 
X-ORIGINAL-URL:https://freedomknysna.co.za
X-WR-CALDESC:Events for Freedom Church 
REFRESH-INTERVAL;VALUE=DURATION:PT1H
X-Robots-Tag:noindex
X-PUBLISHED-TTL:PT1H
BEGIN:VTIMEZONE
TZID:Europe/Helsinki
BEGIN:DAYLIGHT
TZOFFSETFROM:+0200
TZOFFSETTO:+0300
TZNAME:EEST
DTSTART:20240331T010000
END:DAYLIGHT
BEGIN:STANDARD
TZOFFSETFROM:+0300
TZOFFSETTO:+0200
TZNAME:EET
DTSTART:20241027T010000
END:STANDARD
BEGIN:DAYLIGHT
TZOFFSETFROM:+0200
TZOFFSETTO:+0300
TZNAME:EEST
DTSTART:20250330T010000
END:DAYLIGHT
BEGIN:STANDARD
TZOFFSETFROM:+0300
TZOFFSETTO:+0200
TZNAME:EET
DTSTART:20251026T010000
END:STANDARD
BEGIN:DAYLIGHT
TZOFFSETFROM:+0200
TZOFFSETTO:+0300
TZNAME:EEST
DTSTART:20260329T010000
END:DAYLIGHT
BEGIN:STANDARD
TZOFFSETFROM:+0300
TZOFFSETTO:+0200
TZNAME:EET
DTSTART:20261025T010000
END:STANDARD
END:VTIMEZONE
BEGIN:VEVENT
DTSTART;TZID=Europe/Helsinki:20250202T180000
DTEND;TZID=Europe/Helsinki:20250202T193000
DTSTAMP:20260423T173414
CREATED:20250128T113445Z
LAST-MODIFIED:20250128T113445Z
UID:3970-1738519200-1738524600@freedomknysna.co.za
SUMMARY:The Strong Mind Course - Tyrone Edgar
DESCRIPTION:
URL:https://freedomknysna.co.za/event/the-strong-mind-course-tyrone-edgar/
LOCATION:Freedom Church Knysna\, 23 Bokmakierie St\, Old Place\, Knysna\, Western Cape\, 6571\, South Africa
END:VEVENT
BEGIN:VEVENT
DTSTART;TZID=Europe/Helsinki:20250209T120000
DTEND;TZID=Europe/Helsinki:20250209T130000
DTSTAMP:20260423T173414
CREATED:20250113T064424Z
LAST-MODIFIED:20250113T064440Z
UID:3956-1739102400-1739106000@freedomknysna.co.za
SUMMARY:Growth Track (Part 1)
DESCRIPTION:
URL:https://freedomknysna.co.za/event/growth-track-3/
LOCATION:Freedom Church Knysna\, 23 Bokmakierie St\, Old Place\, Knysna\, Western Cape\, 6571\, South Africa
END:VEVENT
BEGIN:VEVENT
DTSTART;TZID=Europe/Helsinki:20250209T180000
DTEND;TZID=Europe/Helsinki:20250209T193000
DTSTAMP:20260423T173414
CREATED:20250204T091150Z
LAST-MODIFIED:20250204T091150Z
UID:3976-1739124000-1739129400@freedomknysna.co.za
SUMMARY:The Strong Mind - Session 2 (with Ps Tyrone Edgar)
DESCRIPTION:
URL:https://freedomknysna.co.za/event/the-strong-mind-session-2-with-ps-tyrone-edgar/
LOCATION:Freedom Church Knysna\, 23 Bokmakierie St\, Old Place\, Knysna\, Western Cape\, 6571\, South Africa
END:VEVENT
BEGIN:VEVENT
DTSTART;TZID=Europe/Helsinki:20250216T120000
DTEND;TZID=Europe/Helsinki:20250216T130000
DTSTAMP:20260423T173414
CREATED:20250113T064524Z
LAST-MODIFIED:20250113T064524Z
UID:3959-1739707200-1739710800@freedomknysna.co.za
SUMMARY:Growth Track (Part 2)
DESCRIPTION:
URL:https://freedomknysna.co.za/event/growth-track-part-2/
LOCATION:Freedom Church Knysna\, 23 Bokmakierie St\, Old Place\, Knysna\, Western Cape\, 6571\, South Africa
END:VEVENT
BEGIN:VEVENT
DTSTART;TZID=Europe/Helsinki:20250216T180000
DTEND;TZID=Europe/Helsinki:20250216T193000
DTSTAMP:20260423T173414
CREATED:20250204T091328Z
LAST-MODIFIED:20250204T091328Z
UID:3979-1739728800-1739734200@freedomknysna.co.za
SUMMARY:The Strong Mind - Session 3 (with Ps Tyrone Edgar)
DESCRIPTION:
URL:https://freedomknysna.co.za/event/the-strong-mind-session-3-with-ps-tyrone-edgar/
LOCATION:Freedom Church Knysna\, 23 Bokmakierie St\, Old Place\, Knysna\, Western Cape\, 6571\, South Africa
END:VEVENT
BEGIN:VEVENT
DTSTART;TZID=Europe/Helsinki:20250221T180000
DTEND;TZID=Europe/Helsinki:20250221T200000
DTSTAMP:20260423T173414
CREATED:20250204T092259Z
LAST-MODIFIED:20250204T092259Z
UID:3991-1740160800-1740168000@freedomknysna.co.za
SUMMARY:Epic Youth Event - Fear Factor
DESCRIPTION:
URL:https://freedomknysna.co.za/event/epic-youth-event-fear-factor/
LOCATION:Freedom Church Knysna\, 23 Bokmakierie St\, Old Place\, Knysna\, Western Cape\, 6571\, South Africa
END:VEVENT
BEGIN:VEVENT
DTSTART;TZID=Europe/Helsinki:20250223T113000
DTEND;TZID=Europe/Helsinki:20250223T120000
DTSTAMP:20260423T173414
CREATED:20250113T064636Z
LAST-MODIFIED:20250113T064636Z
UID:3961-1740310200-1740312000@freedomknysna.co.za
SUMMARY:Water Baptism
DESCRIPTION:
URL:https://freedomknysna.co.za/event/water-baptism/
LOCATION:Freedom Church Knysna\, 23 Bokmakierie St\, Old Place\, Knysna\, Western Cape\, 6571\, South Africa
END:VEVENT
BEGIN:VEVENT
DTSTART;TZID=Europe/Helsinki:20250223T180000
DTEND;TZID=Europe/Helsinki:20250223T193000
DTSTAMP:20260423T173414
CREATED:20250204T091425Z
LAST-MODIFIED:20250204T091425Z
UID:3981-1740333600-1740339000@freedomknysna.co.za
SUMMARY:The Strong Mind - Session 4 (with Ps Tyrone Edgar)
DESCRIPTION:
URL:https://freedomknysna.co.za/event/the-strong-mind-session-4-with-ps-tyrone-edgar/
LOCATION:Freedom Church Knysna\, 23 Bokmakierie St\, Old Place\, Knysna\, Western Cape\, 6571\, South Africa
END:VEVENT
END:VCALENDAR