BEGIN:VCALENDAR
VERSION:2.0
PRODID:-//Freedom Church  - ECPv6.15.20//NONSGML v1.0//EN
CALSCALE:GREGORIAN
METHOD:PUBLISH
X-WR-CALNAME:Freedom Church 
X-ORIGINAL-URL:https://freedomknysna.co.za
X-WR-CALDESC:Events for Freedom Church 
REFRESH-INTERVAL;VALUE=DURATION:PT1H
X-Robots-Tag:noindex
X-PUBLISHED-TTL:PT1H
BEGIN:VTIMEZONE
TZID:Europe/Helsinki
BEGIN:DAYLIGHT
TZOFFSETFROM:+0200
TZOFFSETTO:+0300
TZNAME:EEST
DTSTART:20230326T010000
END:DAYLIGHT
BEGIN:STANDARD
TZOFFSETFROM:+0300
TZOFFSETTO:+0200
TZNAME:EET
DTSTART:20231029T010000
END:STANDARD
BEGIN:DAYLIGHT
TZOFFSETFROM:+0200
TZOFFSETTO:+0300
TZNAME:EEST
DTSTART:20240331T010000
END:DAYLIGHT
BEGIN:STANDARD
TZOFFSETFROM:+0300
TZOFFSETTO:+0200
TZNAME:EET
DTSTART:20241027T010000
END:STANDARD
BEGIN:DAYLIGHT
TZOFFSETFROM:+0200
TZOFFSETTO:+0300
TZNAME:EEST
DTSTART:20250330T010000
END:DAYLIGHT
BEGIN:STANDARD
TZOFFSETFROM:+0300
TZOFFSETTO:+0200
TZNAME:EET
DTSTART:20251026T010000
END:STANDARD
END:VTIMEZONE
BEGIN:VEVENT
DTSTART;TZID=Europe/Helsinki:20241110T120000
DTEND;TZID=Europe/Helsinki:20241110T130000
DTSTAMP:20260423T222330
CREATED:20241028T091837Z
LAST-MODIFIED:20241028T091926Z
UID:3842-1731240000-1731243600@freedomknysna.co.za
SUMMARY:Growth Track
DESCRIPTION:
URL:https://freedomknysna.co.za/event/growth-track/
LOCATION:Freedom Church Knysna\, 23 Bokmakierie St\, Old Place\, Knysna\, Western Cape\, 6571\, South Africa
END:VEVENT
BEGIN:VEVENT
DTSTART;TZID=Europe/Helsinki:20241117T120000
DTEND;TZID=Europe/Helsinki:20241117T130000
DTSTAMP:20260423T222330
CREATED:20241028T092822Z
LAST-MODIFIED:20241028T092822Z
UID:3845-1731844800-1731848400@freedomknysna.co.za
SUMMARY:Growth Track
DESCRIPTION:
URL:https://freedomknysna.co.za/event/growth-track-2/
LOCATION:Freedom Church Knysna\, 23 Bokmakierie St\, Old Place\, Knysna\, Western Cape\, 6571\, South Africa
END:VEVENT
BEGIN:VEVENT
DTSTART;TZID=Europe/Helsinki:20241118T180000
DTEND;TZID=Europe/Helsinki:20241118T193000
DTSTAMP:20260423T222330
CREATED:20241028T093450Z
LAST-MODIFIED:20241028T093450Z
UID:3847-1731952800-1731958200@freedomknysna.co.za
SUMMARY:Hello Vineyard
DESCRIPTION:If you’re new to Knysna Vineyard\, this is our way of connecting with you. Hello Vineyard serves as a membership class for anyone thinking of joining the Knysna Vineyard family by becoming a member. \nAt Hello Vineyard you will find out what it means to be a member of the church and what it entails.
URL:https://freedomknysna.co.za/event/hello-vineyard/
LOCATION:Freedom Church Knysna\, 23 Bokmakierie St\, Old Place\, Knysna\, Western Cape\, 6571\, South Africa
END:VEVENT
BEGIN:VEVENT
DTSTART;TZID=Europe/Helsinki:20241124T113000
DTEND;TZID=Europe/Helsinki:20241124T120000
DTSTAMP:20260423T222330
CREATED:20241028T093851Z
LAST-MODIFIED:20241028T093851Z
UID:3850-1732447800-1732449600@freedomknysna.co.za
SUMMARY:Water Baptism Sunday
DESCRIPTION:
URL:https://freedomknysna.co.za/event/water-baptism-sunday/
LOCATION:Freedom Church Knysna\, 23 Bokmakierie St\, Old Place\, Knysna\, Western Cape\, 6571\, South Africa
END:VEVENT
BEGIN:VEVENT
DTSTART;TZID=Europe/Helsinki:20241128T100000
DTEND;TZID=Europe/Helsinki:20241128T113000
DTSTAMP:20260423T222330
CREATED:20241126T090608Z
LAST-MODIFIED:20241126T090608Z
UID:3908-1732788000-1732793400@freedomknysna.co.za
SUMMARY:Little Blessings
DESCRIPTION:
URL:https://freedomknysna.co.za/event/little-blessings-2/
LOCATION:Freedom Church Knysna\, 23 Bokmakierie St\, Old Place\, Knysna\, Western Cape\, 6571\, South Africa
END:VEVENT
BEGIN:VEVENT
DTSTART;TZID=Europe/Helsinki:20241129T180000
DTEND;TZID=Europe/Helsinki:20241129T200000
DTSTAMP:20260423T222330
CREATED:20241126T085929Z
LAST-MODIFIED:20241126T085945Z
UID:3902-1732903200-1732910400@freedomknysna.co.za
SUMMARY:Fusion Youth Event
DESCRIPTION:
URL:https://freedomknysna.co.za/event/fusion-youth-event/
LOCATION:Freedom Church Knysna\, 23 Bokmakierie St\, Old Place\, Knysna\, Western Cape\, 6571\, South Africa
END:VEVENT
END:VCALENDAR