BEGIN:VCALENDAR
VERSION:2.0
PRODID:-//Freedom Church  - ECPv6.15.20//NONSGML v1.0//EN
CALSCALE:GREGORIAN
METHOD:PUBLISH
X-ORIGINAL-URL:https://freedomknysna.co.za
X-WR-CALDESC:Events for Freedom Church 
REFRESH-INTERVAL;VALUE=DURATION:PT1H
X-Robots-Tag:noindex
X-PUBLISHED-TTL:PT1H
BEGIN:VTIMEZONE
TZID:Europe/Helsinki
BEGIN:DAYLIGHT
TZOFFSETFROM:+0200
TZOFFSETTO:+0300
TZNAME:EEST
DTSTART:20240331T010000
END:DAYLIGHT
BEGIN:STANDARD
TZOFFSETFROM:+0300
TZOFFSETTO:+0200
TZNAME:EET
DTSTART:20241027T010000
END:STANDARD
BEGIN:DAYLIGHT
TZOFFSETFROM:+0200
TZOFFSETTO:+0300
TZNAME:EEST
DTSTART:20250330T010000
END:DAYLIGHT
BEGIN:STANDARD
TZOFFSETFROM:+0300
TZOFFSETTO:+0200
TZNAME:EET
DTSTART:20251026T010000
END:STANDARD
BEGIN:DAYLIGHT
TZOFFSETFROM:+0200
TZOFFSETTO:+0300
TZNAME:EEST
DTSTART:20260329T010000
END:DAYLIGHT
BEGIN:STANDARD
TZOFFSETFROM:+0300
TZOFFSETTO:+0200
TZNAME:EET
DTSTART:20261025T010000
END:STANDARD
END:VTIMEZONE
BEGIN:VEVENT
DTSTART;TZID=Europe/Helsinki:20250312T183000
DTEND;TZID=Europe/Helsinki:20250312T200000
DTSTAMP:20260423T173440
CREATED:20250217T065032Z
LAST-MODIFIED:20250220T120103Z
UID:4015-1741804200-1741809600@freedomknysna.co.za
SUMMARY:Worship Night
DESCRIPTION:
URL:https://freedomknysna.co.za/event/worship-night/
LOCATION:Freedom Church Knysna\, 23 Bokmakierie St\, Old Place\, Knysna\, Western Cape\, 6571\, South Africa
END:VEVENT
END:VCALENDAR