BEGIN:VCALENDAR
VERSION:2.0
PRODID:-//Freedom Church  - ECPv6.15.20//NONSGML v1.0//EN
CALSCALE:GREGORIAN
METHOD:PUBLISH
X-WR-CALNAME:Freedom Church 
X-ORIGINAL-URL:https://freedomknysna.co.za
X-WR-CALDESC:Events for Freedom Church 
REFRESH-INTERVAL;VALUE=DURATION:PT1H
X-Robots-Tag:noindex
X-PUBLISHED-TTL:PT1H
BEGIN:VTIMEZONE
TZID:Europe/Helsinki
BEGIN:DAYLIGHT
TZOFFSETFROM:+0200
TZOFFSETTO:+0300
TZNAME:EEST
DTSTART:20230326T010000
END:DAYLIGHT
BEGIN:STANDARD
TZOFFSETFROM:+0300
TZOFFSETTO:+0200
TZNAME:EET
DTSTART:20231029T010000
END:STANDARD
BEGIN:DAYLIGHT
TZOFFSETFROM:+0200
TZOFFSETTO:+0300
TZNAME:EEST
DTSTART:20240331T010000
END:DAYLIGHT
BEGIN:STANDARD
TZOFFSETFROM:+0300
TZOFFSETTO:+0200
TZNAME:EET
DTSTART:20241027T010000
END:STANDARD
BEGIN:DAYLIGHT
TZOFFSETFROM:+0200
TZOFFSETTO:+0300
TZNAME:EEST
DTSTART:20250330T010000
END:DAYLIGHT
BEGIN:STANDARD
TZOFFSETFROM:+0300
TZOFFSETTO:+0200
TZNAME:EET
DTSTART:20251026T010000
END:STANDARD
END:VTIMEZONE
BEGIN:VEVENT
DTSTART;TZID=Europe/Helsinki:20241013T083000
DTEND;TZID=Europe/Helsinki:20241013T113000
DTSTAMP:20260424T012457
CREATED:20241001T063408Z
LAST-MODIFIED:20241009T084210Z
UID:3815-1728808200-1728819000@freedomknysna.co.za
SUMMARY:Guest Speaker: Ray Bevan
DESCRIPTION:Pastor Ray Bevan is an anointed and highly sought after speaker. His unique way of blending humor and truth has resulted in thousands of people in the UK\, Europe\, and the World being encouraged and inspired to reach their potential in Christ. \n  \nSo join us this Sunday\, 13 October\, for our two morning services at 08:30 and 10:00.
URL:https://freedomknysna.co.za/event/guest-speaker-ray-bevan/
LOCATION:Freedom Church Knysna\, 23 Bokmakierie St\, Old Place\, Knysna\, Western Cape\, 6571\, South Africa
END:VEVENT
END:VCALENDAR